BEGIN:VCALENDAR
VERSION:2.0
PRODID:-//eventon.com NONSGML v1.0//EN
BEGIN:VEVENT
UID:69e7329df13b5
DTSTAMP:20260421T101733
DTSTART:20200122T093000Z
DTEND:20200122T110000Z
TZID:Europe/Brussels
LOCATION:
SUMMARY:DIGITAL CHALLENGERS
DESCRIPTION: Europe needs competitive digital markets\,  not least to integrate itself better within the global digital industry. The success of digital companies in Central and Eastern Europe are key to the development of the European economy and regional development. The facilitation of regulatory contexts through better and smarter regulation are key[..]\nhttps://enterprisealliance.eu/events/digital-challengers/
URL:https://enterprisealliance.eu/events/digital-challengers/
END:VEVENT
END:VCALENDAR