BEGIN:VCALENDAR
VERSION:2.0
PRODID:-//eventon.com NONSGML v1.0//EN
BEGIN:VEVENT
UID:69e5efe756611
DTSTAMP:20260420T112039
DTSTART:20250623T080000Z
DTEND:20250623T100000Z
TZID:Europe/Brussels
LOCATION:European Parliament Liaison Office in Poland Jasna 14/3 piętro
SUMMARY:Europe on the Road to Safe and Affordable Energy
DESCRIPTION: On 23 June 2025\,  the Union of Entrepreneurs and Employers (ZPP) hosted a high-level debate titled &#8220;Europe on the Road to Safe and Affordable Energy&#8221; at the European Parliament Office in Warsaw. The event convened policymakers\,  energy experts\,  and industry leaders to assess the future of the EU’s energy security[..]\nhttps://enterprisealliance.eu/events/europe-on-the-road-to-safe-and-affordable-energy/
URL:https://enterprisealliance.eu/events/europe-on-the-road-to-safe-and-affordable-energy/
END:VEVENT
END:VCALENDAR