BEGIN:VCALENDAR
VERSION:2.0
PRODID:-//eventon.com NONSGML v1.0//EN
BEGIN:VEVENT
UID:69e732f6de874
DTSTAMP:20260421T101902
DTSTART:20240925T104500Z
DTEND:20240925T123000Z
TZID:Europe/Brussels
LOCATION:Member's Salon at the European Parliament Rue Wiertz 60\,  1047 Brussels\,  Belgium
SUMMARY:The Future of the Single Market for Services in the EU
DESCRIPTION: The working lunch on the Future of the Single Market for Services in the EU will provide an opportunity to discuss the findings and recommendations from our recent report\,  which reveals that services have lagged far behind goods within an interpretation of a single market. Despite the substantial progress accomplished[..]\nhttps://enterprisealliance.eu/events/the-future-of-the-single-market-for-services-in-the-eu/
URL:https://enterprisealliance.eu/events/the-future-of-the-single-market-for-services-in-the-eu/
END:VEVENT
END:VCALENDAR